BEGIN:VCALENDAR
VERSION:2.0
PRODID:-//Draw Near Global - ECPv6.15.12.1//NONSGML v1.0//EN
CALSCALE:GREGORIAN
METHOD:PUBLISH
X-WR-CALNAME:Draw Near Global
X-ORIGINAL-URL:https://drawnearglobal.com
X-WR-CALDESC:Events for Draw Near Global
REFRESH-INTERVAL;VALUE=DURATION:PT1H
X-Robots-Tag:noindex
X-PUBLISHED-TTL:PT1H
BEGIN:VTIMEZONE
TZID:UTC
BEGIN:STANDARD
TZOFFSETFROM:+0000
TZOFFSETTO:+0000
TZNAME:UTC
DTSTART:20240101T000000
END:STANDARD
END:VTIMEZONE
BEGIN:VEVENT
DTSTART;TZID=UTC:20250911T183000
DTEND;TZID=UTC:20250911T203000
DTSTAMP:20260421T004732
CREATED:20230221T074213Z
LAST-MODIFIED:20250909T091516Z
UID:28177-1757615400-1757622600@drawnearglobal.com
SUMMARY:Draw Near | Refreshment Night
DESCRIPTION:
URL:https://drawnearglobal.com/index.php/event/moms-group-learning-from-each-other-2/
LOCATION:Bezaleel Office\, 1101 Burnett St\, Hatfield\, Pretoria\, 0002\, South Africa\, Pretoria\, Gauteng\, 0083\, South Africa
CATEGORIES:Draw Near
ATTACH;FMTTYPE=image/jpeg:https://drawnearglobal.com/wp-content/uploads/2023/02/DN-NIGHTS11_09_2025.jpg
ORGANIZER;CN="Zintle Notshe":MAILTO:email@example.com
END:VEVENT
END:VCALENDAR