BEGIN:VCALENDAR
VERSION:2.0
PRODID:-//Draw Near Global - ECPv6.15.12.1//NONSGML v1.0//EN
CALSCALE:GREGORIAN
METHOD:PUBLISH
X-WR-CALNAME:Draw Near Global
X-ORIGINAL-URL:https://drawnearglobal.com
X-WR-CALDESC:Events for Draw Near Global
REFRESH-INTERVAL;VALUE=DURATION:PT1H
X-Robots-Tag:noindex
X-PUBLISHED-TTL:PT1H
BEGIN:VTIMEZONE
TZID:UTC
BEGIN:STANDARD
TZOFFSETFROM:+0000
TZOFFSETTO:+0000
TZNAME:UTC
DTSTART:20240101T000000
END:STANDARD
END:VTIMEZONE
BEGIN:VEVENT
DTSTART;TZID=UTC:20251030T183000
DTEND;TZID=UTC:20251030T203000
DTSTAMP:20260420T141216
CREATED:20240711T153059Z
LAST-MODIFIED:20251027T100448Z
UID:35085-1761849000-1761856200@drawnearglobal.com
SUMMARY:DRAW NEAR NIGHTS- EVERY THURSDAY
DESCRIPTION:Join us at Draw Near nights every Thursday at 6:30pm
URL:https://drawnearglobal.com/index.php/event/pastors-connection-dinner-2/
LOCATION:Bezaleel Office\, 1101 Burnett St\, Hatfield\, Pretoria\, 0002\, South Africa\, Pretoria\, Gauteng\, 0083\, South Africa
CATEGORIES:Dinner Party
ATTACH;FMTTYPE=image/jpeg:https://drawnearglobal.com/wp-content/uploads/2023/02/DN-NIGHTS11_09_2025.jpg
ORGANIZER;CN="Zintle Notshe":MAILTO:email@example.com
END:VEVENT
END:VCALENDAR